BEGIN:VCALENDAR
VERSION:2.0
PRODID:SchoolNow
CALSCALE:GREGORIAN
BEGIN:VEVENT
UID:8e01ef4a-a51c-11f0-8c5a-0a58a9feac02
DTSTAMP:20251121T133510Z
SUMMARY:Yo Yo Club
URL;VALUE=URI:https://www.sau10.nh.gov/schools/wrb/calendar/8708841/yo-yo-c
 lub
DTSTART:20251106T190000Z
DTEND:20251106T200000Z
END:VEVENT
END:VCALENDAR
