BEGIN:VCALENDAR
VERSION:2.0
PRODID:SchoolNow
CALSCALE:GREGORIAN
BEGIN:VEVENT
UID:8e01f29c-a51c-11f0-bc91-0a58a9feac02
DTSTAMP:20251121T133510Z
SUMMARY:Yo Yo Club
URL;VALUE=URI:https://www.sau10.nh.gov/schools/wrb/calendar/8708843/yo-yo-c
 lub
DTSTART:20251120T190000Z
DTEND:20251120T200000Z
END:VEVENT
END:VCALENDAR
