BEGIN:VCALENDAR
VERSION:2.0
PRODID:SchoolNow
CALSCALE:GREGORIAN
BEGIN:VEVENT
UID:8e01f436-a51c-11f0-9039-0a58a9feac02
DTSTAMP:20251121T133510Z
SUMMARY:Anime Club
URL;VALUE=URI:https://www.sau10.nh.gov/schools/wrb/calendar/8708844/anime-c
 lub
DTSTART:20251027T180000Z
DTEND:20251027T190000Z
END:VEVENT
END:VCALENDAR
