BEGIN:VCALENDAR
VERSION:2.0
PRODID:SchoolNow
CALSCALE:GREGORIAN
BEGIN:VEVENT
UID:8e01fc42-a51c-11f0-931b-0a58a9feac02
DTSTAMP:20251121T133510Z
SUMMARY:Anime Club
URL;VALUE=URI:https://www.sau10.nh.gov/schools/wrb/calendar/8708848/anime-c
 lub
DTSTART:20251124T190000Z
DTEND:20251124T200000Z
END:VEVENT
END:VCALENDAR
