BEGIN:VCALENDAR
VERSION:2.0
PRODID:SchoolNow
CALSCALE:GREGORIAN
BEGIN:VEVENT
UID:8a4849b6-a54f-11f0-8fee-0ef5f1604195
DTSTAMP:20251121T133510Z
SUMMARY:Gr. 6 Volleyball
URL;VALUE=URI:https://www.sau10.nh.gov/schools/wrb/calendar/8709878/gr-6-vo
 lleyball
DTSTART:20251030T180000Z
DTEND:20251030T190000Z
END:VEVENT
END:VCALENDAR
