BEGIN:VCALENDAR
VERSION:2.0
PRODID:SchoolNow
CALSCALE:GREGORIAN
BEGIN:VEVENT
UID:5631ce14-a918-11f0-8dc0-0a58a9feac02
DTSTAMP:20251121T133509Z
SUMMARY:Family & Teacher Conferences
URL;VALUE=URI:https://www.sau10.nh.gov/schools/wrb/calendar/8721999/family-
 teacher-conferences
DTSTART:20251110T170500Z
DTEND:20251111T000000Z
END:VEVENT
END:VCALENDAR
