BEGIN:VCALENDAR
VERSION:2.0
PRODID:SchoolNow
CALSCALE:GREGORIAN
BEGIN:VEVENT
UID:57ad940c-a94b-11f0-94d9-0a58a9feac02
DTSTAMP:20251121T133510Z
SUMMARY:Harry Potter Club
URL;VALUE=URI:https://www.sau10.nh.gov/schools/wrb/calendar/8722921/harry-p
 otter-club
DTSTART:20251113T190000Z
DTEND:20251113T200000Z
END:VEVENT
END:VCALENDAR
