BEGIN:VCALENDAR
VERSION:2.0
PRODID:SchoolNow
CALSCALE:GREGORIAN
BEGIN:VEVENT
UID:57ad9b0a-a94b-11f0-8edf-0a58a9feac02
DTSTAMP:20251121T133510Z
SUMMARY:Jazz Band Club
URL;VALUE=URI:https://www.sau10.nh.gov/schools/wrb/calendar/8722928/jazz-ba
 nd-club
DTSTART:20251103T190000Z
DTEND:20251103T201500Z
END:VEVENT
END:VCALENDAR
