BEGIN:VCALENDAR
VERSION:2.0
PRODID:SchoolNow
CALSCALE:GREGORIAN
BEGIN:VEVENT
UID:57ada370-a94b-11f0-a4b0-0a58a9feac02
DTSTAMP:20251121T133510Z
SUMMARY:Jazz Band Club
URL;VALUE=URI:https://www.sau10.nh.gov/schools/wrb/calendar/8722937/jazz-ba
 nd-club
DTSTART:20260105T190000Z
DTEND:20260105T201500Z
END:VEVENT
END:VCALENDAR
