BEGIN:VCALENDAR
VERSION:2.0
PRODID:SchoolNow
CALSCALE:GREGORIAN
BEGIN:VEVENT
UID:57adaac8-a94b-11f0-b78e-0a58a9feac02
DTSTAMP:20251121T133510Z
SUMMARY:Jazz Band Club
URL;VALUE=URI:https://www.sau10.nh.gov/schools/wrb/calendar/8722945/jazz-ba
 nd-club
DTSTART:20260302T190000Z
DTEND:20260302T201500Z
END:VEVENT
END:VCALENDAR
