BEGIN:VCALENDAR
VERSION:2.0
PRODID:SchoolNow
CALSCALE:GREGORIAN
BEGIN:VEVENT
UID:57adaf6e-a94b-11f0-81f6-0a58a9feac02
DTSTAMP:20251121T133510Z
SUMMARY:Jazz Band Club
URL;VALUE=URI:https://www.sau10.nh.gov/schools/wrb/calendar/8722950/jazz-ba
 nd-club
DTSTART:20260406T180000Z
DTEND:20260406T191500Z
END:VEVENT
END:VCALENDAR
