BEGIN:VCALENDAR
VERSION:2.0
PRODID:SchoolNow
CALSCALE:GREGORIAN
BEGIN:VEVENT
UID:51f0cd6a-a9e4-11f0-bba4-0a58a9feac02
DTSTAMP:20251121T133509Z
SUMMARY:Gr. 5 Volleyball
URL;VALUE=URI:https://www.sau10.nh.gov/schools/wrb/calendar/8724780/gr-5-vo
 lleyball
DTSTART:20251015T180000Z
DTEND:20251015T190000Z
END:VEVENT
END:VCALENDAR
