BEGIN:VCALENDAR
VERSION:2.0
PRODID:SchoolNow
CALSCALE:GREGORIAN
BEGIN:VEVENT
UID:51f0d120-a9e4-11f0-8de5-0a58a9feac02
DTSTAMP:20251121T133510Z
SUMMARY:Drawing Club
URL;VALUE=URI:https://www.sau10.nh.gov/schools/wrb/calendar/8724781/drawing
 -club
DTSTART:20251016T180000Z
DTEND:20251016T190000Z
END:VEVENT
END:VCALENDAR
