BEGIN:VCALENDAR
VERSION:2.0
PRODID:SchoolNow
CALSCALE:GREGORIAN
BEGIN:VEVENT
UID:51f0d3e6-a9e4-11f0-a0c5-0a58a9feac02
DTSTAMP:20251121T133509Z
SUMMARY:Drawing Club
URL;VALUE=URI:https://www.sau10.nh.gov/schools/wrb/calendar/8724783/drawing
 -club
DTSTART:20251113T190000Z
DTEND:20251113T200000Z
END:VEVENT
END:VCALENDAR
