BEGIN:VCALENDAR
VERSION:2.0
PRODID:SchoolNow
CALSCALE:GREGORIAN
BEGIN:VEVENT
UID:51f0d5ee-a9e4-11f0-95c7-0a58a9feac02
DTSTAMP:20251121T133510Z
SUMMARY:Drawing Club
URL;VALUE=URI:https://www.sau10.nh.gov/schools/wrb/calendar/8724785/drawing
 -club
DTSTART:20260108T190000Z
DTEND:20260108T200000Z
END:VEVENT
END:VCALENDAR
