BEGIN:VCALENDAR
VERSION:2.0
PRODID:SchoolNow
CALSCALE:GREGORIAN
BEGIN:VEVENT
UID:42f5b6b4-aab0-11f0-b19d-0e78a0487945
DTSTAMP:20251121T133510Z
SUMMARY:Monster Mile
URL;VALUE=URI:https://www.sau10.nh.gov/schools/wrb/calendar/8727444/monster
 -mile
DTSTART;VALUE=DATE:20251031
DTEND;VALUE=DATE:20251101
END:VEVENT
END:VCALENDAR
