BEGIN:VCALENDAR
VERSION:2.0
PRODID:SchoolNow
CALSCALE:GREGORIAN
BEGIN:VEVENT
UID:42f5b9e8-aab0-11f0-bde6-0e78a0487945
DTSTAMP:20251121T133510Z
SUMMARY:Anime Club
URL;VALUE=URI:https://www.sau10.nh.gov/schools/wrb/calendar/8727445/anime-c
 lub
DTSTART:20251020T180000Z
DTEND:20251020T190000Z
END:VEVENT
END:VCALENDAR
