BEGIN:VCALENDAR
VERSION:2.0
PRODID:SchoolNow
CALSCALE:GREGORIAN
BEGIN:VEVENT
UID:4387c780-ab7c-11f0-a5e4-0a58a9feac02
DTSTAMP:20251121T133509Z
SUMMARY:Veterans Day Breakfast
URL;VALUE=URI:https://www.sau10.nh.gov/schools/wrb/calendar/8730065/veteran
 s-day-breakfast
DTSTART:20251107T130000Z
DTEND:20251107T141500Z
END:VEVENT
END:VCALENDAR
