BEGIN:VCALENDAR
VERSION:2.0
PRODID:SchoolNow
CALSCALE:GREGORIAN
BEGIN:VEVENT
UID:928373be-b029-11f0-a70e-0ea9ff9373a9
DTSTAMP:20251121T133509Z
SUMMARY:Jazz Band Club
URL;VALUE=URI:https://www.sau10.nh.gov/schools/wrb/calendar/8745290/jazz-ba
 nd-club
DTSTART:20251027T180000Z
DTEND:20251027T191500Z
END:VEVENT
END:VCALENDAR
