BEGIN:VCALENDAR
VERSION:2.0
PRODID:SchoolNow
CALSCALE:GREGORIAN
BEGIN:VEVENT
UID:9288878c-b029-11f0-a177-0ea9ff9373a9
DTSTAMP:20251121T133510Z
SUMMARY:Poetry Club
URL;VALUE=URI:https://www.sau10.nh.gov/schools/wrb/calendar/8745291/poetry-
 club
DTSTART:20251105T190000Z
DTEND:20251105T200000Z
END:VEVENT
END:VCALENDAR
