BEGIN:VCALENDAR
VERSION:2.0
PRODID:SchoolNow
CALSCALE:GREGORIAN
BEGIN:VEVENT
UID:92888b1a-b029-11f0-8051-0ea9ff9373a9
DTSTAMP:20251121T133510Z
SUMMARY:Poetry Club
URL;VALUE=URI:https://www.sau10.nh.gov/schools/wrb/calendar/8745292/poetry-
 club
DTSTART:20251112T190000Z
DTEND:20251112T200000Z
END:VEVENT
END:VCALENDAR
