BEGIN:VCALENDAR
VERSION:2.0
PRODID:SchoolNow
CALSCALE:GREGORIAN
BEGIN:VEVENT
UID:da5d1906-b425-11f0-ae07-0affea33dc19
DTSTAMP:20251121T133509Z
SUMMARY:Donkey Basketball w/DPD
URL;VALUE=URI:https://www.sau10.nh.gov/schools/wrb/calendar/8757738/donkey-
 basketball-w-dpd
DTSTART:20251114T230000Z
DTEND:20251115T010000Z
END:VEVENT
END:VCALENDAR
