BEGIN:VCALENDAR
VERSION:2.0
PRODID:SchoolNow
CALSCALE:GREGORIAN
BEGIN:VEVENT
UID:d49caa56-b4be-11f0-a92e-0e6a8c240029
DTSTAMP:20251121T133510Z
SUMMARY:Lego Club
URL;VALUE=URI:https://www.sau10.nh.gov/schools/wrb/calendar/8759276/lego-cl
 ub
DTSTART:20251105T190000Z
DTEND:20251105T200000Z
END:VEVENT
END:VCALENDAR
