BEGIN:VCALENDAR
VERSION:2.0
PRODID:SchoolNow
CALSCALE:GREGORIAN
BEGIN:VEVENT
UID:d49cab96-b4be-11f0-956b-0e6a8c240029
DTSTAMP:20251121T133510Z
SUMMARY:Lego Club
URL;VALUE=URI:https://www.sau10.nh.gov/schools/wrb/calendar/8759277/lego-cl
 ub
DTSTART:20251112T190000Z
DTEND:20251112T200000Z
END:VEVENT
END:VCALENDAR
