BEGIN:VCALENDAR
VERSION:2.0
PRODID:SchoolNow
CALSCALE:GREGORIAN
BEGIN:VEVENT
UID:d49cacb8-b4be-11f0-a132-0e6a8c240029
DTSTAMP:20251121T133510Z
SUMMARY:Lego Club
URL;VALUE=URI:https://www.sau10.nh.gov/schools/wrb/calendar/8759278/lego-cl
 ub
DTSTART:20251119T190000Z
DTEND:20251119T200000Z
END:VEVENT
END:VCALENDAR
