BEGIN:VCALENDAR
VERSION:2.0
PRODID:SchoolNow
CALSCALE:GREGORIAN
BEGIN:VEVENT
UID:d085a23c-b4f1-11f0-9f74-0a58a9feac02
DTSTAMP:20251121T133510Z
SUMMARY:Chess Club
URL;VALUE=URI:https://www.sau10.nh.gov/schools/wrb/calendar/8760053/chess-c
 lub
DTSTART:20251119T190000Z
DTEND:20251119T200000Z
END:VEVENT
END:VCALENDAR
