BEGIN:VCALENDAR
VERSION:2.0
PRODID:SchoolNow
CALSCALE:GREGORIAN
BEGIN:VEVENT
UID:d085a390-b4f1-11f0-86c7-0a58a9feac02
DTSTAMP:20251121T133510Z
SUMMARY:Chess Club
URL;VALUE=URI:https://www.sau10.nh.gov/schools/wrb/calendar/8760054/chess-c
 lub
DTSTART:20260114T190000Z
DTEND:20260114T200000Z
END:VEVENT
END:VCALENDAR
