BEGIN:VCALENDAR
VERSION:2.0
PRODID:SchoolNow
CALSCALE:GREGORIAN
BEGIN:VEVENT
UID:d085a598-b4f1-11f0-87a7-0a58a9feac02
DTSTAMP:20251121T133510Z
SUMMARY:Chess Club
URL;VALUE=URI:https://www.sau10.nh.gov/schools/wrb/calendar/8760056/chess-c
 lub
DTSTART:20260128T190000Z
DTEND:20260128T200000Z
END:VEVENT
END:VCALENDAR
