BEGIN:VCALENDAR
VERSION:2.0
PRODID:SchoolNow
CALSCALE:GREGORIAN
BEGIN:VEVENT
UID:d085a688-b4f1-11f0-a8db-0a58a9feac02
DTSTAMP:20251121T133510Z
SUMMARY:Chess Club
URL;VALUE=URI:https://www.sau10.nh.gov/schools/wrb/calendar/8760057/chess-c
 lub
DTSTART:20260204T190000Z
DTEND:20260204T200000Z
END:VEVENT
END:VCALENDAR
