BEGIN:VCALENDAR
VERSION:2.0
PRODID:SchoolNow
CALSCALE:GREGORIAN
BEGIN:VEVENT
UID:9c29cf7c-b8ed-11f0-a2c7-0ed147e4ae83
DTSTAMP:20251121T133510Z
SUMMARY:Balloon Flight Club
URL;VALUE=URI:https://www.sau10.nh.gov/schools/wrb/calendar/8774030/balloon
 -flight-club
DTSTART:20251106T190000Z
DTEND:20251106T200000Z
END:VEVENT
END:VCALENDAR
