BEGIN:VCALENDAR
VERSION:2.0
PRODID:SchoolNow
CALSCALE:GREGORIAN
BEGIN:VEVENT
UID:9c29d436-b8ed-11f0-a30d-0ed147e4ae83
DTSTAMP:20251121T133510Z
SUMMARY:Balloon Flight Club
URL;VALUE=URI:https://www.sau10.nh.gov/schools/wrb/calendar/8774031/balloon
 -flight-club
DTSTART:20251113T190000Z
DTEND:20251113T200000Z
END:VEVENT
END:VCALENDAR
