BEGIN:VCALENDAR
VERSION:2.0
PRODID:SchoolNow
CALSCALE:GREGORIAN
BEGIN:VEVENT
UID:986957a8-b920-11f0-8dd5-02a2ad660fc5
DTSTAMP:20251121T133509Z
SUMMARY:Rubiks Cube Club
URL;VALUE=URI:https://www.sau10.nh.gov/schools/wrb/calendar/8774722/rubiks-
 cube-club
DTSTART:20251107T190000Z
DTEND:20251107T200000Z
END:VEVENT
END:VCALENDAR
