BEGIN:VCALENDAR
VERSION:2.0
PRODID:SchoolNow
CALSCALE:GREGORIAN
BEGIN:VEVENT
UID:986959f6-b920-11f0-b8a9-02a2ad660fc5
DTSTAMP:20251121T133510Z
SUMMARY:Rubiks Cube Club
URL;VALUE=URI:https://www.sau10.nh.gov/schools/wrb/calendar/8774723/rubiks-
 cube-club
DTSTART:20260123T190000Z
DTEND:20260123T200000Z
END:VEVENT
END:VCALENDAR
