BEGIN:VCALENDAR
VERSION:2.0
PRODID:SchoolNow
CALSCALE:GREGORIAN
BEGIN:VEVENT
UID:98bddc42-b920-11f0-9434-02a2ad660fc5
DTSTAMP:20251121T133510Z
SUMMARY:Rubiks Cube Club
URL;VALUE=URI:https://www.sau10.nh.gov/schools/wrb/calendar/8774724/rubiks-
 cube-club
DTSTART:20251212T190000Z
DTEND:20251212T200000Z
END:VEVENT
END:VCALENDAR
