BEGIN:VCALENDAR
VERSION:2.0
PRODID:SchoolNow
CALSCALE:GREGORIAN
BEGIN:VEVENT
UID:98bde070-b920-11f0-8e09-02a2ad660fc5
DTSTAMP:20251121T133509Z
SUMMARY:Rubiks Cube Club
URL;VALUE=URI:https://www.sau10.nh.gov/schools/wrb/calendar/8774725/rubiks-
 cube-club
DTSTART:20260109T190000Z
DTEND:20260109T200000Z
END:VEVENT
END:VCALENDAR
