BEGIN:VCALENDAR
VERSION:2.0
PRODID:SchoolNow
CALSCALE:GREGORIAN
BEGIN:VEVENT
UID:f062451a-c612-11f0-ac75-0a58a9feac02
DTSTAMP:20251121T133510Z
SUMMARY:Destination Imagination
URL;VALUE=URI:https://www.sau10.nh.gov/schools/wrb/calendar/8805268/destina
 tion-imagination
DTSTART:20251120T190000Z
DTEND:20251120T200000Z
END:VEVENT
END:VCALENDAR
