BEGIN:VCALENDAR
VERSION:2.0
PRODID:SchoolNow
CALSCALE:GREGORIAN
BEGIN:VEVENT
UID:f0626928-c612-11f0-bbe1-0a58a9feac02
DTSTAMP:20251121T133510Z
SUMMARY:Destination Imagination
URL;VALUE=URI:https://www.sau10.nh.gov/schools/wrb/calendar/8805272/destina
 tion-imagination
DTSTART:20260101T190000Z
DTEND:20260101T200000Z
END:VEVENT
END:VCALENDAR
