BEGIN:VCALENDAR
VERSION:2.0
PRODID:SchoolNow
CALSCALE:GREGORIAN
BEGIN:VEVENT
UID:f0626c2a-c612-11f0-b0d5-0a58a9feac02
DTSTAMP:20251121T133510Z
SUMMARY:Destination Imagination
URL;VALUE=URI:https://www.sau10.nh.gov/schools/wrb/calendar/8805275/destina
 tion-imagination
DTSTART:20260122T190000Z
DTEND:20260122T200000Z
END:VEVENT
END:VCALENDAR
