BEGIN:VCALENDAR
VERSION:2.0
PRODID:SchoolNow
CALSCALE:GREGORIAN
BEGIN:VEVENT
UID:f0629808-c612-11f0-9fca-0a58a9feac02
DTSTAMP:20251121T133510Z
SUMMARY:Destination Imagination
URL;VALUE=URI:https://www.sau10.nh.gov/schools/wrb/calendar/8805313/destina
 tion-imagination
DTSTART:20261015T180000Z
DTEND:20261015T190000Z
END:VEVENT
END:VCALENDAR
