BEGIN:VCALENDAR
VERSION:2.0
PRODID:SchoolNow
CALSCALE:GREGORIAN
BEGIN:VEVENT
UID:f0629e8e-c612-11f0-a78b-0a58a9feac02
DTSTAMP:20251121T133510Z
SUMMARY:Destination Imagination
URL;VALUE=URI:https://www.sau10.nh.gov/schools/wrb/calendar/8805320/destina
 tion-imagination
DTSTART:20261203T190000Z
DTEND:20261203T200000Z
END:VEVENT
END:VCALENDAR
