BEGIN:VCALENDAR
VERSION:2.0
PRODID:SchoolNow
CALSCALE:GREGORIAN
BEGIN:VEVENT
UID:f062c292-c612-11f0-a736-0a58a9feac02
DTSTAMP:20251121T133510Z
SUMMARY:Destination Imagination
URL;VALUE=URI:https://www.sau10.nh.gov/schools/wrb/calendar/8805344/destina
 tion-imagination
DTSTART:20270520T180000Z
DTEND:20270520T190000Z
END:VEVENT
END:VCALENDAR
